BEGIN:VCALENDAR
VERSION:2.0
PRODID:-//Gomer&#039;s of Kansas - ECPv6.13.2.1//NONSGML v1.0//EN
CALSCALE:GREGORIAN
METHOD:PUBLISH
X-WR-CALNAME:Gomer&#039;s of Kansas
X-ORIGINAL-URL:https://gomersofkansas.com
X-WR-CALDESC:Events for Gomer&#039;s of Kansas
REFRESH-INTERVAL;VALUE=DURATION:PT1H
X-Robots-Tag:noindex
X-PUBLISHED-TTL:PT1H
BEGIN:VTIMEZONE
TZID:America/Chicago
BEGIN:DAYLIGHT
TZOFFSETFROM:-0600
TZOFFSETTO:-0500
TZNAME:CDT
DTSTART:20260308T080000
END:DAYLIGHT
BEGIN:STANDARD
TZOFFSETFROM:-0500
TZOFFSETTO:-0600
TZNAME:CST
DTSTART:20261101T070000
END:STANDARD
END:VTIMEZONE
BEGIN:VEVENT
DTSTART;TZID=America/Chicago:20260417T160000
DTEND;TZID=America/Chicago:20260417T180000
DTSTAMP:20260421T132034
CREATED:20260315T193205Z
LAST-MODIFIED:20260315T193205Z
UID:10001972-1776441600-1776448800@gomersofkansas.com
SUMMARY:Tasting at The Well Feat. Nowadays THC Seltzers
DESCRIPTION:Join us in store at The Well for free samples of Nowadays THC-infused seltzers. \n-No sign up required. Drop in any time during the event window. Open to all 21 years and older.
URL:https://gomersofkansas.com/event/tasting-at-the-well-feat-nowadays-thc-seltzers-4/
END:VEVENT
BEGIN:VEVENT
DTSTART;TZID=America/Chicago:20260417T160000
DTEND;TZID=America/Chicago:20260417T180000
DTSTAMP:20260421T132034
CREATED:20260327T002021Z
LAST-MODIFIED:20260327T002021Z
UID:10001978-1776441600-1776448800@gomersofkansas.com
SUMMARY:Tasting at The Well Feat. Climbing Kites THC Seltzers
DESCRIPTION:Join us in store at The Well for free samples of Climbing Kites THC-infused seltzers. \n-No sign up required. Drop in any time during the event window. Open to all 21 years and older.
URL:https://gomersofkansas.com/event/tasting-at-the-well-feat-climbing-kites-thc-seltzers/
END:VEVENT
END:VCALENDAR