BEGIN:VCALENDAR
VERSION:2.0
PRODID:-//Gomer&#039;s of Kansas - ECPv6.13.2.1//NONSGML v1.0//EN
CALSCALE:GREGORIAN
METHOD:PUBLISH
X-WR-CALNAME:Gomer&#039;s of Kansas
X-ORIGINAL-URL:https://gomersofkansas.com
X-WR-CALDESC:Events for Gomer&#039;s of Kansas
REFRESH-INTERVAL;VALUE=DURATION:PT1H
X-Robots-Tag:noindex
X-PUBLISHED-TTL:PT1H
BEGIN:VTIMEZONE
TZID:America/Chicago
BEGIN:DAYLIGHT
TZOFFSETFROM:-0600
TZOFFSETTO:-0500
TZNAME:CDT
DTSTART:20250309T080000
END:DAYLIGHT
BEGIN:STANDARD
TZOFFSETFROM:-0500
TZOFFSETTO:-0600
TZNAME:CST
DTSTART:20251102T070000
END:STANDARD
END:VTIMEZONE
BEGIN:VEVENT
DTSTART;TZID=America/Chicago:20250606T160000
DTEND;TZID=America/Chicago:20250606T180000
DTSTAMP:20260424T060207
CREATED:20250605T004723Z
LAST-MODIFIED:20250605T004723Z
UID:10001630-1749225600-1749232800@gomersofkansas.com
SUMMARY:Tasting at The Well Feat. Mr Black & Grey Goose Espresso Martini
DESCRIPTION:Join us in store at The Well for free samples of espresso martini featuring Mr Black coffee liqueur and Grey Goose vodka. \n-No sign up required. Drop in any time during the event window. Open to all 21 years and older.
URL:https://gomersofkansas.com/event/tasting-at-the-well-feat-mr-black-grey-goose-espresso-martini/
END:VEVENT
BEGIN:VEVENT
DTSTART;TZID=America/Chicago:20250606T163000
DTEND;TZID=America/Chicago:20250606T183000
DTSTAMP:20260424T060207
CREATED:20250521T001517Z
LAST-MODIFIED:20250521T001517Z
UID:10001617-1749227400-1749234600@gomersofkansas.com
SUMMARY:Tasting at The Well Feat. Climbing Kites THC-Infused Sparkling Water
DESCRIPTION:Join us in store at The Well for free samples of Climbing Kites THC-infused sparkling water. \n-No sign up required. Drop in any time during the event window. Open to all 21 years and older.
URL:https://gomersofkansas.com/event/tasting-at-the-well-feat-climbing-kites-thc-infused-sparkling-water/
END:VEVENT
BEGIN:VEVENT
DTSTART;TZID=America/Chicago:20250606T163000
DTEND;TZID=America/Chicago:20250606T183000
DTSTAMP:20260424T060207
CREATED:20250601T201113Z
LAST-MODIFIED:20250601T201113Z
UID:10001626-1749227400-1749234600@gomersofkansas.com
SUMMARY:Tasting at The Well Feat. Mijenta Tequila
DESCRIPTION:Join us in store at The Well for free samples of Mijenta tequila. \n-No sign up required. Drop in any time during the event window. Open to all 21 years and older.
URL:https://gomersofkansas.com/event/tasting-at-the-well-feat-mijenta-tequila-2/
END:VEVENT
END:VCALENDAR