BEGIN:VCALENDAR
VERSION:2.0
PRODID:-//Gomer&#039;s of Kansas - ECPv6.13.2.1//NONSGML v1.0//EN
CALSCALE:GREGORIAN
METHOD:PUBLISH
X-WR-CALNAME:Gomer&#039;s of Kansas
X-ORIGINAL-URL:https://gomersofkansas.com
X-WR-CALDESC:Events for Gomer&#039;s of Kansas
REFRESH-INTERVAL;VALUE=DURATION:PT1H
X-Robots-Tag:noindex
X-PUBLISHED-TTL:PT1H
BEGIN:VTIMEZONE
TZID:America/Chicago
BEGIN:DAYLIGHT
TZOFFSETFROM:-0600
TZOFFSETTO:-0500
TZNAME:CDT
DTSTART:20250309T080000
END:DAYLIGHT
BEGIN:STANDARD
TZOFFSETFROM:-0500
TZOFFSETTO:-0600
TZNAME:CST
DTSTART:20251102T070000
END:STANDARD
END:VTIMEZONE
BEGIN:VEVENT
DTSTART;TZID=America/Chicago:20250516T150000
DTEND;TZID=America/Chicago:20250516T180000
DTSTAMP:20260421T091348
CREATED:20250409T002737Z
LAST-MODIFIED:20250409T002737Z
UID:10001588-1747407600-1747418400@gomersofkansas.com
SUMMARY:Tasting at The Well Feat. Mean Mule Canned Cocktails
DESCRIPTION:Join us in store at The Well for free samples of canned cocktails from Mean Mule Distilling Co.\, including their Paloma\, Cranberry Fizz\, and new Watermelon Poblano. \n-No sign up required. Drop in any time during the event window. Open to all 21 years and older.
URL:https://gomersofkansas.com/event/tasting-at-the-well-feat-mean-mule-canned-cocktails/
END:VEVENT
END:VCALENDAR