BEGIN:VCALENDAR
VERSION:2.0
PRODID:-//Gomer&#039;s of Kansas - ECPv6.13.2.1//NONSGML v1.0//EN
CALSCALE:GREGORIAN
METHOD:PUBLISH
X-WR-CALNAME:Gomer&#039;s of Kansas
X-ORIGINAL-URL:https://gomersofkansas.com
X-WR-CALDESC:Events for Gomer&#039;s of Kansas
REFRESH-INTERVAL;VALUE=DURATION:PT1H
X-Robots-Tag:noindex
X-PUBLISHED-TTL:PT1H
BEGIN:VTIMEZONE
TZID:America/Chicago
BEGIN:DAYLIGHT
TZOFFSETFROM:-0600
TZOFFSETTO:-0500
TZNAME:CDT
DTSTART:20230312T080000
END:DAYLIGHT
BEGIN:STANDARD
TZOFFSETFROM:-0500
TZOFFSETTO:-0600
TZNAME:CST
DTSTART:20231105T070000
END:STANDARD
END:VTIMEZONE
BEGIN:VEVENT
DTSTART;TZID=America/Chicago:20230603T130000
DTEND;TZID=America/Chicago:20230603T150000
DTSTAMP:20260425T102829
CREATED:20230515T183705Z
LAST-MODIFIED:20230515T183705Z
UID:10001034-1685797200-1685804400@gomersofkansas.com
SUMMARY:Tasting at The Well Feat. Cayman Jack Zero\, Mikes Hard Zero Ready to Drink Cocktails
DESCRIPTION:Join us in store at The Well for free samples of Seasonal selections from Cayman Jack Zero Margaritas\, Mike’s Hard Zero Ready to Drink Cocktails. \n-No sign up required. Drop in any time during the event window. Open to all 21 years and older.
URL:https://gomersofkansas.com/event/tasting-at-the-well-feat-cayman-jack-zero-mikes-hard-zero-ready-to-drink-cocktails/
END:VEVENT
END:VCALENDAR